BEGIN:VCALENDAR
VERSION:2.0
PRODID:-//Concordia University Faculty Association - ECPv6.15.12.1//NONSGML v1.0//EN
CALSCALE:GREGORIAN
METHOD:PUBLISH
X-WR-CALNAME:Concordia University Faculty Association
X-ORIGINAL-URL:https://cufa.net/fr/
X-WR-CALDESC:Évènements pour Concordia University Faculty Association
REFRESH-INTERVAL;VALUE=DURATION:PT1H
X-Robots-Tag:noindex
X-PUBLISHED-TTL:PT1H
BEGIN:VTIMEZONE
TZID:UTC
BEGIN:STANDARD
TZOFFSETFROM:+0000
TZOFFSETTO:+0000
TZNAME:UTC
DTSTART:20250101T000000
END:STANDARD
END:VTIMEZONE
BEGIN:VEVENT
DTSTART;VALUE=DATE:20260601
DTEND;VALUE=DATE:20260602
DTSTAMP:20260424T112143
CREATED:20250911T215050Z
LAST-MODIFIED:20250911T215050Z
UID:10000034-1780272000-1780358399@cufa.net
SUMMARY:Date limite pour soumettre une demande d’allégement de tâche débutant 1er janvier
DESCRIPTION:Date limite pour soumettre une demande d’allégement de tâche débutant 1er janvier. (Art. 25.05) \nEn savoir plus
URL:https://cufa.net/fr/event/date-limite-pour-soumettre-une-demande-dallegement-de-tache-debutant-1er-janvier/
LOCATION:Quebec
CATEGORIES:Échéances importantes
END:VEVENT
BEGIN:VEVENT
DTSTART;VALUE=DATE:20260701
DTEND;VALUE=DATE:20260702
DTSTAMP:20260424T112143
CREATED:20250911T215356Z
LAST-MODIFIED:20250911T215505Z
UID:10000037-1782864000-1782950399@cufa.net
SUMMARY:Début des congés sabbatiques de douze mois
DESCRIPTION:Début des congés sabbatiques de douze mois (Art. 26.05) \nEn savoir plus
URL:https://cufa.net/fr/event/debut-des-conges-sabbatiques-de-douze-mois/
LOCATION:Quebec
CATEGORIES:Échéances importantes
END:VEVENT
BEGIN:VEVENT
DTSTART;VALUE=DATE:20260915
DTEND;VALUE=DATE:20260916
DTSTAMP:20260424T112143
CREATED:20250911T220006Z
LAST-MODIFIED:20250911T220134Z
UID:10000038-1789430400-1789516799@cufa.net
SUMMARY:Date limite pour faire une demande retraite graduelle débutant le 1er janvier. (Art. 42.08 a)
DESCRIPTION:Date limite pour faire une demande retraite graduelle débutant le 1er janvier. (Art. 42.08 a) \nEn savoir plus
URL:https://cufa.net/fr/event/date-limite-pour-faire-une-demande-retraite-graduelle-debutant-le-1er-janvier/
LOCATION:Quebec
CATEGORIES:Échéances importantes
END:VEVENT
BEGIN:VEVENT
DTSTART;VALUE=DATE:20261001
DTEND;VALUE=DATE:20261002
DTSTAMP:20260424T112143
CREATED:20250911T220554Z
LAST-MODIFIED:20250911T220804Z
UID:10000041-1790812800-1790899199@cufa.net
SUMMARY:Date limite pour les demandes de titularisation
DESCRIPTION:Date limite pour les demandes de titularisation (Convention collective  -Article 14.07 b) \nEn savoir plus
URL:https://cufa.net/fr/event/date-limite-pour-les-demandes-de-titularisation-convention-collective-article-14-07-b/
LOCATION:Quebec
CATEGORIES:Échéances importantes
END:VEVENT
BEGIN:VEVENT
DTSTART;VALUE=DATE:20261015
DTEND;VALUE=DATE:20261016
DTSTAMP:20260424T112143
CREATED:20250911T220854Z
LAST-MODIFIED:20250911T220854Z
UID:10000042-1792022400-1792108799@cufa.net
SUMMARY:Date limite pour soumettre une demande de renouvellement  (Art. 14.06 b) de l’année précédent la fin du poste ELD\, à l’essai ou de recherche
DESCRIPTION:Date limite pour soumettre une demande de renouvellement  (Art. 14.06 b) de l’année précédent la fin du poste ELD\, à l’essai ou de recherche. \nEn savoir plus
URL:https://cufa.net/fr/event/date-limite-pour-soumettre-une-demande-de-renouvellement-art-14-06-b-de-lannee-precedent-la-fin-du-poste-eld-a-lessai-ou-de-recherche/
LOCATION:Quebec
CATEGORIES:Échéances importantes
END:VEVENT
END:VCALENDAR